BEGIN:VCALENDAR
VERSION:2.0
PRODID:-//wp-events-plugin.com//7.2.3.1//EN
TZID:Europe/Paris
X-WR-TIMEZONE:Europe/Paris
BEGIN:VEVENT
UID:8@lesamisdesartsdemarcigny.fr
DTSTART;TZID=Europe/Paris:20260720T100000
DTEND;TZID=Europe/Paris:20260722T120000
DTSTAMP:20260409T134735Z
URL:https://lesamisdesartsdemarcigny.fr/events/atelier-recyclage/
SUMMARY:Atelier Recyclage
DESCRIPTION:Textiles\, cartons\, papiers\n\nTarifs\n5€ par personne\nNomb
 re de places limitées
ATTACH;FMTTYPE=image/jpeg:https://lesamisdesartsdemarcigny.fr/wp-content/u
 ploads/2026/04/1000003353-scaled.jpg
CATEGORIES:Atelier
END:VEVENT
BEGIN:VTIMEZONE
TZID:Europe/Paris
X-LIC-LOCATION:Europe/Paris
BEGIN:DAYLIGHT
DTSTART:20260329T030000
TZOFFSETFROM:+0100
TZOFFSETTO:+0200
TZNAME:CEST
END:DAYLIGHT
END:VTIMEZONE
END:VCALENDAR