BEGIN:VCALENDAR
VERSION:2.0
PRODID:-//wp-events-plugin.com//7.2.3.1//EN
TZID:Europe/Paris
X-WR-TIMEZONE:Europe/Paris
BEGIN:VEVENT
UID:14@lesamisdesartsdemarcigny.fr
DTSTART;TZID=Europe/Paris:20261023T200000
DTEND;TZID=Europe/Paris:20261023T200000
DTSTAMP:20260415T163145Z
URL:https://lesamisdesartsdemarcigny.fr/events/faisons-un-reve/
SUMMARY:Faisons un rêve
DESCRIPTION:\n\n\nART SCENE présente une pièce de Sacha Guitry\,\n\nmise 
 en scène par Catherine Perroy\n\n&nbsp\;\n\n« Une comédie de mœurs é
 crite en pleine première guerre mondiale pour apporter aux spectateurs de
 s Bouffes Parisiens un peu d’insouciance et de légèreté… »\n\n\n\
 nTarif\n15€\n\nLieu\n\nSalle Paul Jeunet à Marcigny
ATTACH;FMTTYPE=image/jpeg:https://lesamisdesartsdemarcigny.fr/wp-content/u
 ploads/2026/04/Theatre.jpg
CATEGORIES:Spectacle
END:VEVENT
BEGIN:VTIMEZONE
TZID:Europe/Paris
X-LIC-LOCATION:Europe/Paris
BEGIN:DAYLIGHT
DTSTART:20260329T030000
TZOFFSETFROM:+0100
TZOFFSETTO:+0200
TZNAME:CEST
END:DAYLIGHT
END:VTIMEZONE
END:VCALENDAR