BEGIN:VCALENDAR
VERSION:2.0
PRODID:-//wp-events-plugin.com//7.2.3.1//EN
TZID:Europe/Paris
X-WR-TIMEZONE:Europe/Paris
BEGIN:VEVENT
UID:5@lesamisdesartsdemarcigny.fr
DTSTART;TZID=Europe/Paris:20260604T200000
DTEND;TZID=Europe/Paris:20260604T200000
DTSTAMP:20260414T145816Z
URL:https://lesamisdesartsdemarcigny.fr/events/frida-kahlo/
SUMMARY:Frida Kahlo
DESCRIPTION:La création d’une icône\nEn partenariat avec le cinéma Vox
 \, FILM DOCUMENTAIRE de la collection « Expositions sur grand écran »
 \, réalisé par Ali Ray. Avec des images additionnelles des commissaires 
 de la nouvelle exposition de la Tate Britain.\n\nCe documentaire intime of
 fre un accès privilégié aux œuvres de l’artiste mexicaine et met en 
 lumière la source de sa créativité\, de sa soif de vie\, de beauté et 
 de révolution.\n\nLieu \nCinéma VOX\n71110 MARCIGNY\n\nTarif unique\n10
  €
ATTACH;FMTTYPE=image/jpeg:https://lesamisdesartsdemarcigny.fr/wp-content/u
 ploads/2026/03/hansuan_fabregas-frida-kahlo-7609008-scaled.jpg
CATEGORIES:Film
END:VEVENT
BEGIN:VTIMEZONE
TZID:Europe/Paris
X-LIC-LOCATION:Europe/Paris
BEGIN:DAYLIGHT
DTSTART:20260329T030000
TZOFFSETFROM:+0100
TZOFFSETTO:+0200
TZNAME:CEST
END:DAYLIGHT
END:VTIMEZONE
END:VCALENDAR