BEGIN:VCALENDAR
VERSION:2.0
PRODID:-//wp-events-plugin.com//7.2.3.1//EN
TZID:Europe/Paris
X-WR-TIMEZONE:Europe/Paris
BEGIN:VEVENT
UID:11@lesamisdesartsdemarcigny.fr
DTSTART;TZID=Europe/Paris:20260701T200000
DTEND;TZID=Europe/Paris:20260701T200000
DTSTAMP:20260414T124910Z
URL:https://lesamisdesartsdemarcigny.fr/events/la-chine-daujourdhui-vue-de
 -linterieur-un-autre-regard/
SUMMARY:La Chine d'aujourd'hui vue de l'intérieur: un autre regard
DESCRIPTION:\n\n\npar Jean-Rémy Bure\, sinologue\, ancien professeur à l'
 Université du Peuple de Pékin.\n\n\n\nLa conférence présentera la vie 
 quotidienne de la société chinoise actuelle\, et l’opinion des Chinois
  de Chine continentale sur l’évolution de leur pays et du monde extéri
 eur. Le conférencier\, qui a longtemps travaillé en Chine\, montrera la 
 diversité du pays et l’attachement des Chinois à leur héritage cultur
 el.\n\nTarifs\n8€ pour les non-adhérents\n5€ pour les adhérents\n\nL
 ieu : Salle Paul Jeunet à MARCIGNY
ATTACH;FMTTYPE=image/jpeg:https://lesamisdesartsdemarcigny.fr/wp-content/u
 ploads/2026/04/chine.jpg
CATEGORIES:Conférence
END:VEVENT
BEGIN:VTIMEZONE
TZID:Europe/Paris
X-LIC-LOCATION:Europe/Paris
BEGIN:DAYLIGHT
DTSTART:20260329T030000
TZOFFSETFROM:+0100
TZOFFSETTO:+0200
TZNAME:CEST
END:DAYLIGHT
END:VTIMEZONE
END:VCALENDAR