BEGIN:VCALENDAR
VERSION:2.0
PRODID:-//wp-events-plugin.com//7.2.3.1//EN
TZID:Europe/Paris
X-WR-TIMEZONE:Europe/Paris
BEGIN:VEVENT
UID:12@lesamisdesartsdemarcigny.fr
DTSTART;TZID=Europe/Paris:20260727T200000
DTEND;TZID=Europe/Paris:20260727T200000
DTSTAMP:20260414T150005Z
URL:https://lesamisdesartsdemarcigny.fr/events/lart-du-tintoret-une-deflag
 ration-a-venise/
SUMMARY:L'art du Tintoret : une déflagration à Venise
DESCRIPTION:par Rémy Valléjo\, dominicain\, historien de l’art\, essayi
 ste\n\n Selon Vasari\, le Tintoret (1512-1594) a « le cerveau le plus
  original\, le plus capricieux\, le plus prompt et le plus résolu\, en un
  mot\, le plus terrible esprit qu’ait jamais eu la peinture ». À Venis
 e\, l’art du peintre de la Scuola di San Rocco\, « chapelle Sixtine de
  la Lagune »\, est une déflagration au gré de compositions fantastiqu
 es\, parfois extravagantes\, dans une ville où règne une toute puissante
  Inquisition.\n\n&nbsp\;\n\nTarifs\n8€ pour les non-adhérents\n5€ pou
 r les adhérents\n\nLieu\n\nSalle Paul Jeunet à Marcigny
ATTACH;FMTTYPE=image/jpeg:https://lesamisdesartsdemarcigny.fr/wp-content/u
 ploads/2026/04/TINTORET.jpg
CATEGORIES:Conférence
END:VEVENT
BEGIN:VTIMEZONE
TZID:Europe/Paris
X-LIC-LOCATION:Europe/Paris
BEGIN:DAYLIGHT
DTSTART:20260329T030000
TZOFFSETFROM:+0100
TZOFFSETTO:+0200
TZNAME:CEST
END:DAYLIGHT
END:VTIMEZONE
END:VCALENDAR