BEGIN:VCALENDAR
VERSION:2.0
PRODID:-//wp-events-plugin.com//7.2.3.1//EN
TZID:Europe/Paris
X-WR-TIMEZONE:Europe/Paris
BEGIN:VEVENT
UID:13@lesamisdesartsdemarcigny.fr
DTSTART;TZID=Europe/Paris:20261001T200000
DTEND;TZID=Europe/Paris:20261001T200000
DTSTAMP:20260414T152127Z
URL:https://lesamisdesartsdemarcigny.fr/events/le-sourire-a-travers-lart/
SUMMARY:Le sourire à travers l'Art
DESCRIPTION:par Isabelle de La Selle\, diplômée en Histoire et en Gestion
  des Institutions Culturelles\, spécialisée en interventions d’éveil 
 à l’art\, créatrice des « Voyages en Art »\n\n \n\nLa conférence
  nous embarquera dans un voyage artistique et intérieur\, pour nous inter
 roger sur les mystères de la plus belle de nos expressions humaines : le
  sourire. Pourquoi sourions-nous ? Que disent nos sourires ? Pourquoi le s
 ourire est-il si discret dans l'Art ? La conférencière nous guidera pou
 r trouver quelques réponses dans les œuvres présentées.\n\n&nbsp\;\n\n
 Tarifs\n\n5€ pour les adhérents\n\n8€ pour les non-adhérents\n\nLieu
 \n\nSalle Paul Jeunet à Marcigny\n\n&nbsp\;\n\n&nbsp\;
ATTACH;FMTTYPE=image/jpeg:https://lesamisdesartsdemarcigny.fr/wp-content/u
 ploads/2026/04/le-sourire-1.jpg
CATEGORIES:Conférence
END:VEVENT
BEGIN:VTIMEZONE
TZID:Europe/Paris
X-LIC-LOCATION:Europe/Paris
BEGIN:DAYLIGHT
DTSTART:20260329T030000
TZOFFSETFROM:+0100
TZOFFSETTO:+0200
TZNAME:CEST
END:DAYLIGHT
END:VTIMEZONE
END:VCALENDAR