BEGIN:VCALENDAR
VERSION:2.0
PRODID:-//wp-events-plugin.com//7.2.3.1//EN
TZID:Europe/Paris
X-WR-TIMEZONE:Europe/Paris
BEGIN:VEVENT
UID:2@lesamisdesartsdemarcigny.fr
DTSTART;TZID=Europe/Paris:20260423T100000
DTEND;TZID=Europe/Paris:20260423T160000
DTSTAMP:20260414T145307Z
URL:https://lesamisdesartsdemarcigny.fr/events/vichy/
SUMMARY:Vichy
DESCRIPTION:Découverte de l'architecture et du thermalisme\nVisite comment
 ée par Traudel Garnier\, guide conférencière\n\nDans le droit fil de la
  conférence du 27 février\, Traudel Garnier nous guidera à travers les 
 bâtiments et les villas de la station thermale qui ont fait la gloire de 
 Vichy\n\nTarifs\n\n15€ pour les adhérents
ATTACH;FMTTYPE=image/jpeg:https://lesamisdesartsdemarcigny.fr/wp-content/u
 ploads/2026/02/Vichy_aujourd_hui.jpg
CATEGORIES:Visite
END:VEVENT
BEGIN:VTIMEZONE
TZID:Europe/Paris
X-LIC-LOCATION:Europe/Paris
BEGIN:DAYLIGHT
DTSTART:20260329T030000
TZOFFSETFROM:+0100
TZOFFSETTO:+0200
TZNAME:CEST
END:DAYLIGHT
END:VTIMEZONE
END:VCALENDAR