BEGIN:VCALENDAR
VERSION:2.0
PRODID:-//wp-events-plugin.com//7.2.3.1//EN
TZID:Europe/Paris
X-WR-TIMEZONE:Europe/Paris
BEGIN:VEVENT
UID:9@lesamisdesartsdemarcigny.fr
DTSTART;TZID=Europe/Paris:20260827T100000
DTEND;TZID=Europe/Paris:20260827T160000
DTSTAMP:20260409T141147Z
URL:https://lesamisdesartsdemarcigny.fr/events/visite-de-souvigny/
SUMMARY:Visite de Souvigny
DESCRIPTION:Découverte de l'abbaye et du bourg\nVisite commentée par \n\
 nNous arpenterons le bourg de Souvigny harmonieusement développé autour 
 de sa magnifique abbaye\, fille aînée de Cluny et nécropole de la famil
 le de Bourbon\, au rythme d'une visite mêlant chefs d'œuvre de l'art mé
 diéval\, jardins monastiques\, ruelles pittoresques et ...plaisirs culina
 ires.\n\nTarifs\n15€
ATTACH;FMTTYPE=image/jpeg:https://lesamisdesartsdemarcigny.fr/wp-content/u
 ploads/2026/04/Souvigny_www.xtof_.photo_-scaled.jpg
CATEGORIES:Visite
END:VEVENT
BEGIN:VTIMEZONE
TZID:Europe/Paris
X-LIC-LOCATION:Europe/Paris
BEGIN:DAYLIGHT
DTSTART:20260329T030000
TZOFFSETFROM:+0100
TZOFFSETTO:+0200
TZNAME:CEST
END:DAYLIGHT
END:VTIMEZONE
END:VCALENDAR